Package: S4Vectors Version: 0.44.0 Command: /Library/Frameworks/R.framework/Resources/bin/R CMD check --install=check:S4Vectors.install-out.txt --library=/Library/Frameworks/R.framework/Resources/library --no-vignettes --timings S4Vectors_0.44.0.tar.gz StartedAt: 2025-02-05 08:36:47 -0500 (Wed, 05 Feb 2025) EndedAt: 2025-02-05 08:38:28 -0500 (Wed, 05 Feb 2025) EllapsedTime: 100.9 seconds RetCode: 0 Status: WARNINGS CheckDir: S4Vectors.Rcheck Warnings: 2