Package: S4Vectors Version: 0.44.0 Command: /Library/Frameworks/R.framework/Resources/bin/R CMD build --keep-empty-dirs --no-resave-data S4Vectors StartedAt: 2025-02-03 21:55:23 -0500 (Mon, 03 Feb 2025) EndedAt: 2025-02-03 21:57:24 -0500 (Mon, 03 Feb 2025) EllapsedTime: 120.6 seconds RetCode: 0 Status: OK PackageFile: S4Vectors_0.44.0.tar.gz PackageFileSize: 1.001 MiB