Package: S4Vectors Version: 0.44.0 Command: /home/biocbuild/R/R/bin/R CMD INSTALL S4Vectors StartedAt: 2025-02-10 20:11:13 -0000 (Mon, 10 Feb 2025) EndedAt: 2025-02-10 20:12:02 -0000 (Mon, 10 Feb 2025) EllapsedTime: 48.7 seconds RetCode: 0 Status: OK