Package: SAIGEgds Version: 2.6.0 Command: /Library/Frameworks/R.framework/Resources/bin/R CMD INSTALL SAIGEgds StartedAt: 2025-02-03 17:39:31 -0500 (Mon, 03 Feb 2025) EndedAt: 2025-02-03 17:40:21 -0500 (Mon, 03 Feb 2025) EllapsedTime: 49.9 seconds RetCode: 0 Status: OK