Package: SAIGEgds Version: 2.6.0 Command: /home/biocbuild/R/R/bin/R CMD check --install=check:SAIGEgds.install-out.txt --library=/home/biocbuild/R/R/site-library --no-vignettes --timings SAIGEgds_2.6.0.tar.gz StartedAt: 2024-11-20 11:59:32 -0000 (Wed, 20 Nov 2024) EndedAt: 2024-11-20 12:02:24 -0000 (Wed, 20 Nov 2024) EllapsedTime: 171.3 seconds RetCode: 0 Status: OK CheckDir: SAIGEgds.Rcheck Warnings: 0