Package: SAIGEgds Version: 2.6.0 Command: /home/biocbuild/R/R/bin/R CMD check --install=check:SAIGEgds.install-out.txt --library=/home/biocbuild/R/R/site-library --no-vignettes --timings SAIGEgds_2.6.0.tar.gz StartedAt: 2025-02-11 10:02:38 -0000 (Tue, 11 Feb 2025) EndedAt: 2025-02-11 10:04:55 -0000 (Tue, 11 Feb 2025) EllapsedTime: 136.2 seconds RetCode: 1 Status: ERROR CheckDir: SAIGEgds.Rcheck Warnings: NA