Package: SAIGEgds Version: 2.6.0 Command: /home/biocbuild/R/R/bin/R CMD INSTALL SAIGEgds StartedAt: 2025-02-03 21:14:04 -0000 (Mon, 03 Feb 2025) EndedAt: 2025-02-03 21:15:37 -0000 (Mon, 03 Feb 2025) EllapsedTime: 93.2 seconds RetCode: 0 Status: OK