Package: SANTA Version: 2.42.0 Command: /Library/Frameworks/R.framework/Resources/bin/R CMD check --install=check:SANTA.install-out.txt --library=/Library/Frameworks/R.framework/Resources/library --no-vignettes --timings SANTA_2.42.0.tar.gz StartedAt: 2025-02-05 08:38:57 -0500 (Wed, 05 Feb 2025) EndedAt: 2025-02-05 08:40:06 -0500 (Wed, 05 Feb 2025) EllapsedTime: 68.9 seconds RetCode: 0 Status: OK CheckDir: SANTA.Rcheck Warnings: 0