Package: SANTA Version: 2.42.0 Command: /Library/Frameworks/R.framework/Resources/bin/R CMD build --keep-empty-dirs --no-resave-data SANTA StartedAt: 2025-02-03 21:55:57 -0500 (Mon, 03 Feb 2025) EndedAt: 2025-02-03 21:56:20 -0500 (Mon, 03 Feb 2025) EllapsedTime: 23.2 seconds RetCode: 0 Status: OK PackageFile: SANTA_2.42.0.tar.gz PackageFileSize: 4.372 MiB