Package: SANTA Version: 2.42.0 Command: /home/biocbuild/bbs-3.20-bioc/R/bin/R CMD build --keep-empty-dirs --no-resave-data --md5 SANTA StartedAt: 2025-02-03 19:07:01 -0500 (Mon, 03 Feb 2025) EndedAt: 2025-02-03 19:07:09 -0500 (Mon, 03 Feb 2025) EllapsedTime: 8.0 seconds RetCode: 0 Status: OK PackageFile: SANTA_2.42.0.tar.gz PackageFileSize: 4.374 MiB