Package: SANTA Version: 2.42.0 Command: /home/biocbuild/bbs-3.20-bioc/R/bin/R CMD check --install=check:SANTA.install-out.txt --library=/home/biocbuild/bbs-3.20-bioc/R/site-library --timings SANTA_2.42.0.tar.gz StartedAt: 2025-02-04 02:04:25 -0500 (Tue, 04 Feb 2025) EndedAt: 2025-02-04 02:05:19 -0500 (Tue, 04 Feb 2025) EllapsedTime: 54.1 seconds RetCode: 0 Status: OK CheckDir: SANTA.Rcheck Warnings: 0