Package: SARC Version: 1.4.0 Command: /Library/Frameworks/R.framework/Resources/bin/R CMD build --keep-empty-dirs --no-resave-data SARC StartedAt: 2025-02-03 21:56:17 -0500 (Mon, 03 Feb 2025) EndedAt: 2025-02-03 22:00:45 -0500 (Mon, 03 Feb 2025) EllapsedTime: 268.3 seconds RetCode: 0 Status: OK PackageFile: SARC_1.4.0.tar.gz PackageFileSize: 3.51 MiB