Package: SARC Version: 1.4.0 Command: /Library/Frameworks/R.framework/Resources/bin/R CMD INSTALL SARC StartedAt: 2025-02-03 16:26:47 -0500 (Mon, 03 Feb 2025) EndedAt: 2025-02-03 16:28:09 -0500 (Mon, 03 Feb 2025) EllapsedTime: 81.1 seconds RetCode: 0 Status: OK