Package: SBGNview Version: 1.20.0 Command: rm -rf SBGNview.buildbin-libdir && mkdir SBGNview.buildbin-libdir && /Users/biocbuild/BBS/utils/build-universal.sh SBGNview_1.20.0.tar.gz /Library/Frameworks/R.framework/Resources/bin/R SBGNview.buildbin-libdir StartedAt: 2025-02-05 17:37:25 -0500 (Wed, 05 Feb 2025) EndedAt: 2025-02-05 17:38:12 -0500 (Wed, 05 Feb 2025) EllapsedTime: 47.7 seconds RetCode: 0 Status: OK PackageFile: SBGNview_1.20.0.tgz PackageFileSize: 2.074 MiB