Package: SBGNview Version: 1.20.0 Command: /Library/Frameworks/R.framework/Resources/bin/R CMD build --keep-empty-dirs --no-resave-data SBGNview StartedAt: 2025-02-04 07:14:19 -0500 (Tue, 04 Feb 2025) EndedAt: 2025-02-04 07:17:08 -0500 (Tue, 04 Feb 2025) EllapsedTime: 169.2 seconds RetCode: 0 Status: OK PackageFile: SBGNview_1.20.0.tar.gz PackageFileSize: 1.676 MiB