Package: SBGNview Version: 1.20.0 Command: /Library/Frameworks/R.framework/Resources/bin/R CMD check --install=check:SBGNview.install-out.txt --library=/Library/Frameworks/R.framework/Resources/library --no-vignettes --timings SBGNview_1.20.0.tar.gz StartedAt: 2025-02-05 08:42:16 -0500 (Wed, 05 Feb 2025) EndedAt: 2025-02-05 08:48:10 -0500 (Wed, 05 Feb 2025) EllapsedTime: 353.9 seconds RetCode: 0 Status: OK CheckDir: SBGNview.Rcheck Warnings: 0