Package: SBGNview Version: 1.20.0 Command: /Library/Frameworks/R.framework/Resources/bin/R CMD build --keep-empty-dirs --no-resave-data SBGNview StartedAt: 2025-01-30 22:29:54 -0500 (Thu, 30 Jan 2025) EndedAt: 2025-01-30 22:34:16 -0500 (Thu, 30 Jan 2025) EllapsedTime: 262.8 seconds RetCode: 0 Status: OK PackageFile: SBGNview_1.20.0.tar.gz PackageFileSize: 1.676 MiB