Package: SBGNview Version: 1.20.0 Command: /Library/Frameworks/R.framework/Resources/bin/R CMD check --install=check:SBGNview.install-out.txt --library=/Library/Frameworks/R.framework/Resources/library --no-vignettes --timings SBGNview_1.20.0.tar.gz StartedAt: 2025-02-04 09:28:10 -0500 (Tue, 04 Feb 2025) EndedAt: 2025-02-04 09:37:51 -0500 (Tue, 04 Feb 2025) EllapsedTime: 580.5 seconds RetCode: 0 Status: OK CheckDir: SBGNview.Rcheck Warnings: 0