Package: SBGNview Version: 1.20.0 Command: /Library/Frameworks/R.framework/Resources/bin/R CMD INSTALL SBGNview StartedAt: 2025-02-03 16:39:11 -0500 (Mon, 03 Feb 2025) EndedAt: 2025-02-03 16:40:33 -0500 (Mon, 03 Feb 2025) EllapsedTime: 82.7 seconds RetCode: 0 Status: OK