Package: SBGNview Version: 1.20.0 Command: /home/biocbuild/bbs-3.20-bioc/R/bin/R CMD check --install=check:SBGNview.install-out.txt --library=/home/biocbuild/bbs-3.20-bioc/R/site-library --timings SBGNview_1.20.0.tar.gz StartedAt: 2025-01-31 01:54:42 -0500 (Fri, 31 Jan 2025) EndedAt: 2025-01-31 02:01:48 -0500 (Fri, 31 Jan 2025) EllapsedTime: 425.9 seconds RetCode: 0 Status: OK CheckDir: SBGNview.Rcheck Warnings: 0