Package: SBGNview Version: 1.20.0 Command: rm -rf SBGNview.buildbin-libdir && mkdir SBGNview.buildbin-libdir && F:\biocbuild\bbs-3.20-bioc\R\bin\R.exe CMD INSTALL --build --library=SBGNview.buildbin-libdir SBGNview_1.20.0.tar.gz StartedAt: 2025-02-04 09:25:48 -0500 (Tue, 04 Feb 2025) EndedAt: 2025-02-04 09:27:06 -0500 (Tue, 04 Feb 2025) EllapsedTime: 78.0 seconds RetCode: 0 Status: OK PackageFile: SBGNview_1.20.0.zip PackageFileSize: 2.086 MiB