Package: SBGNview Version: 1.20.0 Command: chmod a+r SBGNview -R && F:\biocbuild\bbs-3.20-bioc\R\bin\R.exe CMD build --keep-empty-dirs --no-resave-data SBGNview StartedAt: 2025-02-03 21:51:52 -0500 (Mon, 03 Feb 2025) EndedAt: 2025-02-03 21:54:52 -0500 (Mon, 03 Feb 2025) EllapsedTime: 179.3 seconds RetCode: 0 Status: OK PackageFile: SBGNview_1.20.0.tar.gz PackageFileSize: 1.682 MiB