Package: SBGNview Version: 1.20.0 Command: /home/biocbuild/R/R/bin/R CMD build --keep-empty-dirs --no-resave-data SBGNview StartedAt: 2025-02-04 02:34:05 -0000 (Tue, 04 Feb 2025) EndedAt: 2025-02-04 02:36:59 -0000 (Tue, 04 Feb 2025) EllapsedTime: 174.3 seconds RetCode: 0 Status: OK PackageFile: SBGNview_1.20.0.tar.gz PackageFileSize: 1.865 MiB