Package: SBMLR Version: 2.2.0 Command: /Library/Frameworks/R.framework/Resources/bin/R CMD INSTALL SBMLR StartedAt: 2025-02-03 15:12:34 -0500 (Mon, 03 Feb 2025) EndedAt: 2025-02-03 15:12:52 -0500 (Mon, 03 Feb 2025) EllapsedTime: 18.6 seconds RetCode: 0 Status: OK