Package: SBMLR Version: 2.2.0 Command: /home/biocbuild/R/R/bin/R CMD build --keep-empty-dirs --no-resave-data SBMLR StartedAt: 2025-02-04 02:34:08 -0000 (Tue, 04 Feb 2025) EndedAt: 2025-02-04 02:34:25 -0000 (Tue, 04 Feb 2025) EllapsedTime: 17.0 seconds RetCode: 0 Status: OK PackageFile: SBMLR_2.2.0.tar.gz PackageFileSize: 268.9 KiB