Package: SBMLR Version: 2.2.0 Command: /home/biocbuild/R/R/bin/R CMD INSTALL SBMLR StartedAt: 2025-02-03 20:21:32 -0000 (Mon, 03 Feb 2025) EndedAt: 2025-02-03 20:21:52 -0000 (Mon, 03 Feb 2025) EllapsedTime: 20.3 seconds RetCode: 0 Status: OK