Package: SCAN.UPC Version: 2.48.0 Command: /Library/Frameworks/R.framework/Resources/bin/R CMD build --keep-empty-dirs --no-resave-data SCAN.UPC StartedAt: 2025-02-04 07:17:00 -0500 (Tue, 04 Feb 2025) EndedAt: 2025-02-04 07:18:09 -0500 (Tue, 04 Feb 2025) EllapsedTime: 68.8 seconds RetCode: 0 Status: OK PackageFile: SCAN.UPC_2.48.0.tar.gz PackageFileSize: 689.7 KiB