Package: SCAN.UPC Version: 2.48.0 Command: /Library/Frameworks/R.framework/Resources/bin/R CMD check --install=check:SCAN.UPC.install-out.txt --library=/Library/Frameworks/R.framework/Resources/library --no-vignettes --timings SCAN.UPC_2.48.0.tar.gz StartedAt: 2025-02-05 08:47:01 -0500 (Wed, 05 Feb 2025) EndedAt: 2025-02-05 08:51:28 -0500 (Wed, 05 Feb 2025) EllapsedTime: 267.0 seconds RetCode: 0 Status: OK CheckDir: SCAN.UPC.Rcheck Warnings: 0