Package: SCAN.UPC Version: 2.48.0 Command: /home/biocbuild/R/R/bin/R CMD build --keep-empty-dirs --no-resave-data SCAN.UPC StartedAt: 2025-02-04 02:34:59 -0000 (Tue, 04 Feb 2025) EndedAt: 2025-02-04 02:35:53 -0000 (Tue, 04 Feb 2025) EllapsedTime: 54.1 seconds RetCode: 0 Status: OK PackageFile: SCAN.UPC_2.48.0.tar.gz PackageFileSize: 683.8 KiB