Package: SCAN.UPC Version: 2.48.0 Command: /home/biocbuild/R/R/bin/R CMD check --install=check:SCAN.UPC.install-out.txt --library=/home/biocbuild/R/R/site-library --no-vignettes --timings SCAN.UPC_2.48.0.tar.gz StartedAt: 2025-02-04 10:43:59 -0000 (Tue, 04 Feb 2025) EndedAt: 2025-02-04 10:48:22 -0000 (Tue, 04 Feb 2025) EllapsedTime: 262.3 seconds RetCode: 0 Status: OK CheckDir: SCAN.UPC.Rcheck Warnings: 0