Package: SCAN.UPC Version: 2.48.0 Command: /home/biocbuild/R/R/bin/R CMD INSTALL SCAN.UPC StartedAt: 2025-02-03 21:06:18 -0000 (Mon, 03 Feb 2025) EndedAt: 2025-02-03 21:07:00 -0000 (Mon, 03 Feb 2025) EllapsedTime: 42.0 seconds RetCode: 0 Status: OK