Package: SCANVIS Version: 1.20.0 Command: /Library/Frameworks/R.framework/Resources/bin/R CMD build --keep-empty-dirs --no-resave-data SCANVIS StartedAt: 2025-02-11 07:14:30 -0500 (Tue, 11 Feb 2025) EndedAt: 2025-02-11 07:15:48 -0500 (Tue, 11 Feb 2025) EllapsedTime: 77.9 seconds RetCode: 0 Status: OK PackageFile: SCANVIS_1.20.0.tar.gz PackageFileSize: 469.9 KiB