Package: SCANVIS Version: 1.20.0 Command: /Library/Frameworks/R.framework/Resources/bin/R CMD check --install=check:SCANVIS.install-out.txt --library=/Library/Frameworks/R.framework/Resources/library --no-vignettes --timings SCANVIS_1.20.0.tar.gz StartedAt: 2025-02-12 08:09:54 -0500 (Wed, 12 Feb 2025) EndedAt: 2025-02-12 08:13:51 -0500 (Wed, 12 Feb 2025) EllapsedTime: 236.7 seconds RetCode: 0 Status: OK CheckDir: SCANVIS.Rcheck Warnings: 0