Package: SCANVIS Version: 1.20.0 Command: /Library/Frameworks/R.framework/Resources/bin/R CMD INSTALL SCANVIS StartedAt: 2024-11-19 15:17:31 -0500 (Tue, 19 Nov 2024) EndedAt: 2024-11-19 15:18:15 -0500 (Tue, 19 Nov 2024) EllapsedTime: 44.0 seconds RetCode: 0 Status: OK