Package: SCANVIS Version: 1.20.0 Command: /Library/Frameworks/R.framework/Resources/bin/R CMD check --install=check:SCANVIS.install-out.txt --library=/Library/Frameworks/R.framework/Resources/library --no-vignettes --timings SCANVIS_1.20.0.tar.gz StartedAt: 2025-02-04 09:32:02 -0500 (Tue, 04 Feb 2025) EndedAt: 2025-02-04 09:39:02 -0500 (Tue, 04 Feb 2025) EllapsedTime: 420.4 seconds RetCode: 0 Status: OK CheckDir: SCANVIS.Rcheck Warnings: 0