Package: SCANVIS Version: 1.20.0 Command: /Library/Frameworks/R.framework/Resources/bin/R CMD INSTALL SCANVIS StartedAt: 2025-02-03 15:39:26 -0500 (Mon, 03 Feb 2025) EndedAt: 2025-02-03 15:40:31 -0500 (Mon, 03 Feb 2025) EllapsedTime: 65.6 seconds RetCode: 0 Status: OK