Package: SCANVIS Version: 1.20.0 Command: /home/biocbuild/R/R/bin/R CMD build --keep-empty-dirs --no-resave-data SCANVIS StartedAt: 2025-02-11 02:14:47 -0000 (Tue, 11 Feb 2025) EndedAt: 2025-02-11 02:15:38 -0000 (Tue, 11 Feb 2025) EllapsedTime: 51.0 seconds RetCode: 0 Status: OK PackageFile: SCANVIS_1.20.0.tar.gz PackageFileSize: 464.8 KiB