Package: SCArray.sat Version: 1.6.0 Command: F:\biocbuild\bbs-3.20-bioc\R\bin\R.exe CMD INSTALL SCArray.sat StartedAt: 2025-02-10 16:57:42 -0500 (Mon, 10 Feb 2025) EndedAt: 2025-02-10 16:58:53 -0500 (Mon, 10 Feb 2025) EllapsedTime: 70.7 seconds RetCode: 0 Status: OK