Package: SCArray.sat Version: 1.6.0 Command: /home/biocbuild/R/R/bin/R CMD build --keep-empty-dirs --no-resave-data SCArray.sat StartedAt: 2025-02-04 02:36:46 -0000 (Tue, 04 Feb 2025) EndedAt: 2025-02-04 02:38:34 -0000 (Tue, 04 Feb 2025) EllapsedTime: 108.2 seconds RetCode: 0 Status: OK PackageFile: SCArray.sat_1.6.0.tar.gz PackageFileSize: 542.9 KiB