Package: SCArray Version: 1.14.0 Command: /Library/Frameworks/R.framework/Resources/bin/R CMD build --keep-empty-dirs --no-resave-data SCArray StartedAt: 2025-02-04 07:19:38 -0500 (Tue, 04 Feb 2025) EndedAt: 2025-02-04 07:21:22 -0500 (Tue, 04 Feb 2025) EllapsedTime: 104.0 seconds RetCode: 0 Status: OK PackageFile: SCArray_1.14.0.tar.gz PackageFileSize: 1.367 MiB