Package: SCArray Version: 1.14.0 Command: /Library/Frameworks/R.framework/Resources/bin/R CMD INSTALL SCArray StartedAt: 2025-02-10 17:49:55 -0500 (Mon, 10 Feb 2025) EndedAt: 2025-02-10 17:50:42 -0500 (Mon, 10 Feb 2025) EllapsedTime: 46.5 seconds RetCode: 0 Status: OK