Package: SCArray Version: 1.14.0 Command: /Library/Frameworks/R.framework/Resources/bin/R CMD build --keep-empty-dirs --no-resave-data SCArray StartedAt: 2025-02-03 21:58:23 -0500 (Mon, 03 Feb 2025) EndedAt: 2025-02-03 22:01:13 -0500 (Mon, 03 Feb 2025) EllapsedTime: 170.4 seconds RetCode: 0 Status: OK PackageFile: SCArray_1.14.0.tar.gz PackageFileSize: 1.364 MiB