Package: SCArray Version: 1.14.0 Command: /home/biocbuild/bbs-3.20-bioc/R/bin/R CMD INSTALL SCArray StartedAt: 2025-02-03 16:00:14 -0500 (Mon, 03 Feb 2025) EndedAt: 2025-02-03 16:00:56 -0500 (Mon, 03 Feb 2025) EllapsedTime: 42.6 seconds RetCode: 0 Status: OK