Package: SCArray Version: 1.14.0 Command: rm -rf SCArray.buildbin-libdir && mkdir SCArray.buildbin-libdir && F:\biocbuild\bbs-3.20-bioc\R\bin\R.exe CMD INSTALL --build --library=SCArray.buildbin-libdir SCArray_1.14.0.tar.gz StartedAt: 2025-02-11 09:24:24 -0500 (Tue, 11 Feb 2025) EndedAt: 2025-02-11 09:26:04 -0500 (Tue, 11 Feb 2025) EllapsedTime: 99.9 seconds RetCode: 0 Status: OK PackageFile: SCArray_1.14.0.zip PackageFileSize: 2.309 MiB