Package: SCArray Version: 1.14.0 Command: chmod a+r SCArray -R && F:\biocbuild\bbs-3.20-bioc\R\bin\R.exe CMD build --keep-empty-dirs --no-resave-data SCArray StartedAt: 2025-02-10 21:47:35 -0500 (Mon, 10 Feb 2025) EndedAt: 2025-02-10 21:49:35 -0500 (Mon, 10 Feb 2025) EllapsedTime: 120.1 seconds RetCode: 0 Status: OK PackageFile: SCArray_1.14.0.tar.gz PackageFileSize: 1.211 MiB