Package: SCArray Version: 1.14.0 Command: F:\biocbuild\bbs-3.20-bioc\R\bin\R.exe CMD INSTALL SCArray StartedAt: 2025-02-10 16:53:54 -0500 (Mon, 10 Feb 2025) EndedAt: 2025-02-10 16:55:22 -0500 (Mon, 10 Feb 2025) EllapsedTime: 87.9 seconds RetCode: 0 Status: OK