Package: SCArray Version: 1.14.0 Command: /home/biocbuild/R/R/bin/R CMD INSTALL SCArray StartedAt: 2025-02-10 21:00:39 -0000 (Mon, 10 Feb 2025) EndedAt: 2025-02-10 21:01:33 -0000 (Mon, 10 Feb 2025) EllapsedTime: 53.1 seconds RetCode: 0 Status: OK