Package: SCOPE Version: 1.18.0 Command: rm -rf SCOPE.buildbin-libdir && mkdir SCOPE.buildbin-libdir && /Users/biocbuild/BBS/utils/build-universal.sh SCOPE_1.18.0.tar.gz /Library/Frameworks/R.framework/Resources/bin/R SCOPE.buildbin-libdir StartedAt: 2025-02-05 17:42:35 -0500 (Wed, 05 Feb 2025) EndedAt: 2025-02-05 17:43:22 -0500 (Wed, 05 Feb 2025) EllapsedTime: 47.0 seconds RetCode: 0 Status: OK PackageFile: SCOPE_1.18.0.tgz PackageFileSize: 586.8 KiB