Package: SCOPE Version: 1.18.0 Command: /Library/Frameworks/R.framework/Resources/bin/R CMD build --keep-empty-dirs --no-resave-data SCOPE StartedAt: 2025-02-11 07:35:12 -0500 (Tue, 11 Feb 2025) EndedAt: 2025-02-11 07:45:35 -0500 (Tue, 11 Feb 2025) EllapsedTime: 622.3 seconds RetCode: 0 Status: OK PackageFile: SCOPE_1.18.0.tar.gz PackageFileSize: 391.8 KiB