Package: SCOPE Version: 1.18.0 Command: /Library/Frameworks/R.framework/Resources/bin/R CMD check --install=check:SCOPE.install-out.txt --library=/Library/Frameworks/R.framework/Resources/library --no-vignettes --timings SCOPE_1.18.0.tar.gz StartedAt: 2025-02-04 09:47:53 -0500 (Tue, 04 Feb 2025) EndedAt: 2025-02-04 10:00:11 -0500 (Tue, 04 Feb 2025) EllapsedTime: 737.7 seconds RetCode: 0 Status: OK CheckDir: SCOPE.Rcheck Warnings: 0